BEGIN:VCALENDAR
VERSION:2.0
PRODID:floktu.com
X-WR-TIMEZONE:Australia/Brisbane
X-PUBLISHED-TTL:P1W
BEGIN:VEVENT
UID:FloktuEvent26313@floktu.com
DTSTART;TZID=Australia/Brisbane:20201218T100000
SEQUENCE:0
TRANSP:OPAQUE
DTEND;TZID=Australia/Brisbane:20201218T110000
SUMMARY:Christmas Multi Draw Raffle 2020
DESCRIPTION:Visit https://24731.floktu.com for more information.
DTSTAMP:20260425T022403Z
END:VEVENT
BEGIN:VTIMEZONE
TZID:Australia/Brisbane
X-LIC-LOCATION:Australia/Brisbane
END:VTIMEZONE
END:VCALENDAR