BEGIN:VCALENDAR
VERSION:2.0
PRODID:floktu.com
X-PUBLISHED-TTL:P1W
BEGIN:VEVENT
UID:FloktuEvent26313@floktu.com
DTSTART:20201218T000000Z
SEQUENCE:0
TRANSP:OPAQUE
DTEND:20201218T010000Z
SUMMARY:Christmas Multi Draw Raffle 2020
DESCRIPTION:Visit https://24731.floktu.com for more information.
DTSTAMP:20260425T022655Z
END:VEVENT
END:VCALENDAR